BEGIN:VCALENDAR
VERSION:2.0
PRODID:-//D3G - ECPv6.15.20//NONSGML v1.0//EN
CALSCALE:GREGORIAN
METHOD:PUBLISH
X-WR-CALNAME:D3G
X-ORIGINAL-URL:https://www.d3g.com
X-WR-CALDESC:Events for D3G
REFRESH-INTERVAL;VALUE=DURATION:PT1H
X-Robots-Tag:noindex
X-PUBLISHED-TTL:PT1H
BEGIN:VTIMEZONE
TZID:UTC
BEGIN:STANDARD
TZOFFSETFROM:+0000
TZOFFSETTO:+0000
TZNAME:UTC
DTSTART:20240101T000000
END:STANDARD
END:VTIMEZONE
BEGIN:VEVENT
DTSTART;VALUE=DATE:20250915
DTEND;VALUE=DATE:20250917
DTSTAMP:20260424T154831
CREATED:20250716T172329Z
LAST-MODIFIED:20250716T172329Z
UID:10000022-1757894400-1758067199@www.d3g.com
SUMMARY:2025 IRHP Las Vegas Affordable Housing Symposium
DESCRIPTION:« All Events \n2025 IRHP Las Vegas Affordable Housing Symposium\nSeptember 15 – 16 \nWebsite:\nhttps://www.inahc.org/indiana-housing-conference \nAdd to Calendar \n\nGoogle Calendar\niCalendar\nOutlook 365\nOutlook Live\n\n\n+ Google Map
URL:https://www.d3g.com/event/2025-irhp-las-vegas-affordable-housing-symposium/
LOCATION:Four Seasons Las Vegas\, 3960 S Las Vegas Blvd\, Las Vegas\, NV\, 89119\, United States
ATTACH;FMTTYPE=image/webp:https://www.d3g.com/wp-content/uploads/2025/07/four-seasons-las-vegas.webp
END:VEVENT
END:VCALENDAR