BEGIN:VCALENDAR
VERSION:2.0
PRODID:-//D3G - ECPv6.15.20//NONSGML v1.0//EN
CALSCALE:GREGORIAN
METHOD:PUBLISH
X-WR-CALNAME:D3G
X-ORIGINAL-URL:https://www.d3g.com
X-WR-CALDESC:Events for D3G
REFRESH-INTERVAL;VALUE=DURATION:PT1H
X-Robots-Tag:noindex
X-PUBLISHED-TTL:PT1H
BEGIN:VTIMEZONE
TZID:UTC
BEGIN:STANDARD
TZOFFSETFROM:+0000
TZOFFSETTO:+0000
TZNAME:UTC
DTSTART:20240101T000000
END:STANDARD
END:VTIMEZONE
BEGIN:VEVENT
DTSTART;TZID=UTC:20250509T090000
DTEND;TZID=UTC:20250509T110000
DTSTAMP:20260420T165249
CREATED:20250502T134900Z
LAST-MODIFIED:20250521T132351Z
UID:1255-1746781200-1746788400@www.d3g.com
SUMMARY:Community Engagement Event | VCU Nurses Week
DESCRIPTION:« All Events\n 				\n				\n				\n				\n					This event has passed. \n				\n				\n				\n				\n					\n	Community Engagement Event | VCU Nurses Week				\n				\n				\n				\n					\n		\n			May 9\n\n	\n\n	 @ \n\n\n9:00 am\n\n		\n\n\n\n	\n	 - \n\n11:00 am\n\n\n\n	\n				\n				\n				\n						\n					\n			\n						\n				\n					\n	\n				\n				\n					\n		\n				\n			\n						\n									Our Community Engagement committee and D3G staff will celebrate Nurses Week by providing coffee and treats for the hardworking VCU CHOR PACU staff! They’ll be in the CHOR PACU on May 9 from 9 AM – 11 AM handing out goodies as a token of appreciation.								\n				\n				\n					\n	\n		\n\n	\n	Add to calendar	\n		\n	\n\n		\n			\n									\n	Google Calendar\n\n									\n	iCalendar\n\n									\n	Outlook 365\n\n									\n	Outlook Live\n\n							\n		\n\n		\n	\n\n				\n				\n					\n		\n					\n		\n				\n						\n					\n			\n						\n				\n					\n				\n				\n	\n			\n		Children’s Hospital of Richmond at VCU Children’s Pavilion & Children’s Tower			\n	\n	\n	\n\n1000 E Broad St\n	\n		\n		Richmond\,\n\n	VA\n\n	23219\n\n	United States\n\n\n\n\n	+ Google Map \n\n\n	\n					\n						\n	 \n\n\n	\n	 \n\n\n\n	\n\n\n\n		\n	\n				\n				\n					\n		\n					\n		\n				\n						\n					\n			\n						\n				\n					\n	\n		\n\n				Stewards of Affordable Housing for the Future (SAHF)	\n\n\n		\n	\n		Virginia Housing Charity Golf Tournament
URL:https://www.d3g.com/event/community-engagement-event-vcu-nurses-week/
LOCATION:Children’s Hospital of Richmond at VCU Children’s Pavilion & Children’s Tower\, 1000 E Broad St\, Richmond\, VA\, 23219\, United States
ATTACH;FMTTYPE=image/png:https://www.d3g.com/wp-content/uploads/2025/05/National-Nurses-Week-websmall-1024x409-1.png
END:VEVENT
END:VCALENDAR