BEGIN:VCALENDAR
VERSION:2.0
PRODID:-//D3G - ECPv6.15.20//NONSGML v1.0//EN
CALSCALE:GREGORIAN
METHOD:PUBLISH
X-WR-CALNAME:D3G
X-ORIGINAL-URL:https://www.d3g.com
X-WR-CALDESC:Events for D3G
REFRESH-INTERVAL;VALUE=DURATION:PT1H
X-Robots-Tag:noindex
X-PUBLISHED-TTL:PT1H
BEGIN:VTIMEZONE
TZID:UTC
BEGIN:STANDARD
TZOFFSETFROM:+0000
TZOFFSETTO:+0000
TZNAME:UTC
DTSTART:20250101T000000
END:STANDARD
END:VTIMEZONE
BEGIN:VEVENT
DTSTART;VALUE=DATE:20260302
DTEND;VALUE=DATE:20260303
DTSTAMP:20260420T114428
CREATED:20260109T181958Z
LAST-MODIFIED:20260109T181958Z
UID:10000033-1772409600-1772495999@www.d3g.com
SUMMARY:Women In Construction Summit 2026
DESCRIPTION:Austin Bazemore will attend.
URL:https://www.d3g.com/event/women-in-construction-summit-2026/
LOCATION:ACE at Hermitage\, 8350 Hermitage High Blvd\, Henrico\, VA\, 23228
ATTACH;FMTTYPE=image/png:https://www.d3g.com/wp-content/uploads/2026/01/wic-2026-bnr-STDv2.png
END:VEVENT
BEGIN:VEVENT
DTSTART;VALUE=DATE:20260304
DTEND;VALUE=DATE:20260307
DTSTAMP:20260420T114428
CREATED:20260109T182356Z
LAST-MODIFIED:20260109T182356Z
UID:10000034-1772582400-1772841599@www.d3g.com
SUMMARY:2026 ELA Conference
DESCRIPTION:Team members from Client Services will attend.
URL:https://www.d3g.com/event/2026-ela-conference/
LOCATION:Marriot Waterfront Hotel\, 700 Aliceanna Street\, Baltimore\, MD\, 21202
ATTACH;FMTTYPE=image/webp:https://www.d3g.com/wp-content/uploads/2026/01/ELA.webp
END:VEVENT
BEGIN:VEVENT
DTSTART;VALUE=DATE:20260304
DTEND;VALUE=DATE:20260307
DTSTAMP:20260420T114428
CREATED:20260109T182611Z
LAST-MODIFIED:20260109T182611Z
UID:10000035-1772582400-1772841599@www.d3g.com
SUMMARY:Georgia Affordable Housing Coalition 29th Annual Conference
DESCRIPTION:Rob Hazelton and Jennifer Berger will attend.
URL:https://www.d3g.com/event/georgia-affordable-housing-coalition-29th-annual-conference/
LOCATION:Westin Savannah Harbor Golf Resort and Spa\, 1 Resort Drive\, Savannah\, GA\, 31421
ATTACH;FMTTYPE=image/jpeg:https://www.d3g.com/wp-content/uploads/2026/01/GAHC-conf.jpg
END:VEVENT
BEGIN:VEVENT
DTSTART;VALUE=DATE:20260326
DTEND;VALUE=DATE:20260327
DTSTAMP:20260420T114428
CREATED:20260109T183035Z
LAST-MODIFIED:20260109T183035Z
UID:10000036-1774483200-1774569599@www.d3g.com
SUMMARY:Nixon Peabody ­2026 Affordable Housing Developers Roundtable
DESCRIPTION:Rob Hazelton will attend.
URL:https://www.d3g.com/event/nixon-peabody-2026-affordable-housing-developers-roundtable/
LOCATION:Newport\, CA\, Newport\, CA
ATTACH;FMTTYPE=image/png:https://www.d3g.com/wp-content/uploads/2026/01/nixon-peabody.png
END:VEVENT
BEGIN:VEVENT
DTSTART;VALUE=DATE:20260421
DTEND;VALUE=DATE:20260423
DTSTAMP:20260420T114428
CREATED:20260407T200046Z
LAST-MODIFIED:20260407T200046Z
UID:10000037-1776729600-1776902399@www.d3g.com
SUMMARY:LAAHP Annual Conference
DESCRIPTION:Jennifer Berger will attend and Rob Hazelton will speak on a panel.
URL:https://www.d3g.com/event/laahp-annual-conference/
LOCATION:Hyatt Centric French Quarter\, 800 Iberville St\, New Orleans\, LA\, 70112\, United States
ATTACH;FMTTYPE=image/jpeg:https://www.d3g.com/wp-content/uploads/2026/04/2026_LAAHP_Save_The_Date_1.jpg
END:VEVENT
BEGIN:VEVENT
DTSTART;TZID=UTC:20260427T140000
DTEND;TZID=UTC:20260427T150000
DTSTAMP:20260420T114428
CREATED:20260407T200255Z
LAST-MODIFIED:20260407T200255Z
UID:10000038-1777298400-1777302000@www.d3g.com
SUMMARY:PHA Webinar RAD/SAC Blends
DESCRIPTION:Save the date for a webinar on RAD/SAC Blends and other important PHA topics.
URL:https://www.d3g.com/event/pha-webinar-rad-sac-blends/
LOCATION:MA
END:VEVENT
BEGIN:VEVENT
DTSTART;VALUE=DATE:20260514
DTEND;VALUE=DATE:20260515
DTSTAMP:20260420T114428
CREATED:20260407T202146Z
LAST-MODIFIED:20260407T202146Z
UID:10000039-1778716800-1778803199@www.d3g.com
SUMMARY:2026 Virginia Housing Charity Golf Tournament
DESCRIPTION:
URL:https://www.d3g.com/event/2026-virginia-housing-charity-golf-tournament/
LOCATION:Topgolf\, 2308 Westwood Avenue\, Richmond\, VA\, 23230\, United States
ATTACH;FMTTYPE=image/png:https://www.d3g.com/wp-content/uploads/2026/04/virginiahousinggolf.png
END:VEVENT
BEGIN:VEVENT
DTSTART;VALUE=DATE:20260527
DTEND;VALUE=DATE:20260530
DTSTAMP:20260420T114428
CREATED:20260407T202340Z
LAST-MODIFIED:20260407T202340Z
UID:10000040-1779840000-1780099199@www.d3g.com
SUMMARY:SMAC ANNUAL CONFERENCE
DESCRIPTION:
URL:https://www.d3g.com/event/smac-annual-conference/
LOCATION:Lowes Hotel Atlanta\, 1065 Peachtree St NE\, Atlanta\, GA\, 30309
ATTACH;FMTTYPE=image/webp:https://www.d3g.com/wp-content/uploads/2026/04/smac-logo.webp
END:VEVENT
BEGIN:VEVENT
DTSTART;VALUE=DATE:20260528
DTEND;VALUE=DATE:20260529
DTSTAMP:20260420T114428
CREATED:20260407T203251Z
LAST-MODIFIED:20260407T203251Z
UID:10000041-1779926400-1780012799@www.d3g.com
SUMMARY:2026 IRHP Boston Affordable Housing Conference
DESCRIPTION:
URL:https://www.d3g.com/event/2026-irhp-boston-affordable-housing-conference/
LOCATION:Convene One Boston Place\, 201 Washington St\, Boston\, MA\, 02108\, United States
ATTACH;FMTTYPE=image/png:https://www.d3g.com/wp-content/uploads/2026/04/irhp_logo_icon_final.png
END:VEVENT
END:VCALENDAR